BEGIN:VCALENDAR
VERSION:2.0
PRODID:-//Swampstore - ECPv6.13.0//NONSGML v1.0//EN
CALSCALE:GREGORIAN
METHOD:PUBLISH
X-ORIGINAL-URL:https://swampstore.it
X-WR-CALDESC:Eventi per Swampstore
REFRESH-INTERVAL;VALUE=DURATION:PT1H
X-Robots-Tag:noindex
X-PUBLISHED-TTL:PT1H
BEGIN:VTIMEZONE
TZID:Europe/Rome
BEGIN:DAYLIGHT
TZOFFSETFROM:+0100
TZOFFSETTO:+0200
TZNAME:CEST
DTSTART:20190331T010000
END:DAYLIGHT
BEGIN:STANDARD
TZOFFSETFROM:+0200
TZOFFSETTO:+0100
TZNAME:CET
DTSTART:20191027T010000
END:STANDARD
END:VTIMEZONE
BEGIN:VEVENT
DTSTART;TZID=Europe/Rome:20190420T154500
DTEND;TZID=Europe/Rome:20190420T180000
DTSTAMP:20260420T104315
CREATED:20190312T092934Z
LAST-MODIFIED:20190410T102657Z
UID:2669-1555775100-1555783200@swampstore.it
SUMMARY:Prerelease Sole e Luna - Legami Inossidabili
DESCRIPTION:SOLE & LUNA – LEGAMI INOSSIDABILI PRE RELEASE !!! \nA 29.90€ riceverete 1 pacchetto pre-release contenente:\n– una busta da 23 carte di cui 1 carta olografica esclusiva!!\n– 4 buste (da 10 carte della nuova espansione);\n1 codice per avere il tuo PRERELEASE KIT anche su pokemon online!! \nAlla fine del torneo due bustine come premio Partecipazione!!
URL:https://swampstore.it/evento/prerelease-sole-e-luna-legami-inossidabili/2019-04-20/
LOCATION:Swampstore\, VIA DELLE MARGHERITE 101\, APRILIA\, Latina\, 04011\, Italia
CATEGORIES:Tornei Carte
ATTACH;FMTTYPE=image/png:https://swampstore.it/wp-content/uploads/2018/10/PRERELEASE-POKEMON-LEGAMI.png
END:VEVENT
END:VCALENDAR